{
 "currentVersion": 10.2,
 "serviceDescription": "",
 "mapName": "NATéR erdészeti fedvények",
 "description": "",
 "copyrightText": "",
 "supportsDynamicLayers": false,
 "layers": [
  {
   "id": 0,
   "name": "vksz.sde.orszag_wgs",
   "parentLayerId": -1,
   "defaultVisibility": false,
   "subLayerIds": null,
   "minScale": 0,
   "maxScale": 0
  },
  {
   "id": 1,
   "name": "Kitettség (erdő klímaosztály változás)",
   "parentLayerId": -1,
   "defaultVisibility": true,
   "subLayerIds": [
    2,
    3,
    4,
    5,
    6
   ],
   "minScale": 0,
   "maxScale": 0
  },
  {
   "id": 2,
   "name": "vksz.sde.klimatikus_kitettseg_2150_7110a",
   "parentLayerId": 1,
   "defaultVisibility": false,
   "subLayerIds": null,
   "minScale": 0,
   "maxScale": 0
  },
  {
   "id": 3,
   "name": "vksz.sde.klimatikus_kitettseg_2150_7110r",
   "parentLayerId": 1,
   "defaultVisibility": false,
   "subLayerIds": null,
   "minScale": 0,
   "maxScale": 0
  },
  {
   "id": 4,
   "name": "vksz.sde.klimatikus_kitettseg_6090_9010",
   "parentLayerId": 1,
   "defaultVisibility": false,
   "subLayerIds": null,
   "minScale": 0,
   "maxScale": 0
  },
  {
   "id": 5,
   "name": "vksz.sde.klimatikus_kitettseg_9010_2150a",
   "parentLayerId": 1,
   "defaultVisibility": false,
   "subLayerIds": null,
   "minScale": 0,
   "maxScale": 0
  },
  {
   "id": 6,
   "name": "vksz.sde.klimatikus_kitettseg_9010_2150r",
   "parentLayerId": 1,
   "defaultVisibility": false,
   "subLayerIds": null,
   "minScale": 0,
   "maxScale": 0
  },
  {
   "id": 7,
   "name": "Várható hatás a produkcióra",
   "parentLayerId": -1,
   "defaultVisibility": true,
   "subLayerIds": [
    8,
    14,
    20,
    26,
    32,
    38,
    44,
    50
   ],
   "minScale": 0,
   "maxScale": 0
  },
  {
   "id": 8,
   "name": "Fatermés változás nemes nyár",
   "parentLayerId": 7,
   "defaultVisibility": true,
   "subLayerIds": [
    9,
    10,
    11,
    12,
    13
   ],
   "minScale": 0,
   "maxScale": 0
  },
  {
   "id": 9,
   "name": "vksz.sde.fatermesi_oszt_1960_90_nny",
   "parentLayerId": 8,
   "defaultVisibility": false,
   "subLayerIds": null,
   "minScale": 0,
   "maxScale": 0
  },
  {
   "id": 10,
   "name": "vksz.sde.fatermesi_oszt_2021_50_nny_ala",
   "parentLayerId": 8,
   "defaultVisibility": false,
   "subLayerIds": null,
   "minScale": 0,
   "maxScale": 0
  },
  {
   "id": 11,
   "name": "vksz.sde.fatermesi_oszt_2021_50_nny_rcm",
   "parentLayerId": 8,
   "defaultVisibility": false,
   "subLayerIds": null,
   "minScale": 0,
   "maxScale": 0
  },
  {
   "id": 12,
   "name": "vksz.sde.fatermesi_oszt_2071_100_nny_ala",
   "parentLayerId": 8,
   "defaultVisibility": false,
   "subLayerIds": null,
   "minScale": 0,
   "maxScale": 0
  },
  {
   "id": 13,
   "name": "vksz.sde.fatermesi_oszt_2071_100_nny_rcm",
   "parentLayerId": 8,
   "defaultVisibility": false,
   "subLayerIds": null,
   "minScale": 0,
   "maxScale": 0
  },
  {
   "id": 14,
   "name": "Fatermés változás kocsánytalan tölgy",
   "parentLayerId": 7,
   "defaultVisibility": true,
   "subLayerIds": [
    15,
    16,
    17,
    18,
    19
   ],
   "minScale": 0,
   "maxScale": 0
  },
  {
   "id": 15,
   "name": "vksz.sde.fatermesi_oszt_1960_90_ktt",
   "parentLayerId": 14,
   "defaultVisibility": false,
   "subLayerIds": null,
   "minScale": 0,
   "maxScale": 0
  },
  {
   "id": 16,
   "name": "vksz.sde.fatermesi_oszt_2021_50_ktt_ala",
   "parentLayerId": 14,
   "defaultVisibility": false,
   "subLayerIds": null,
   "minScale": 0,
   "maxScale": 0
  },
  {
   "id": 17,
   "name": "vksz.sde.fatermesi_oszt_2021_50_ktt_rcm",
   "parentLayerId": 14,
   "defaultVisibility": false,
   "subLayerIds": null,
   "minScale": 0,
   "maxScale": 0
  },
  {
   "id": 18,
   "name": "vksz.sde.fatermesi_oszt_2071_100_ktt_ala",
   "parentLayerId": 14,
   "defaultVisibility": false,
   "subLayerIds": null,
   "minScale": 0,
   "maxScale": 0
  },
  {
   "id": 19,
   "name": "vksz.sde.fatermesi_oszt_2071_100_ktt_rcm",
   "parentLayerId": 14,
   "defaultVisibility": false,
   "subLayerIds": null,
   "minScale": 0,
   "maxScale": 0
  },
  {
   "id": 20,
   "name": "Fatermés változás kocsányostölgy",
   "parentLayerId": 7,
   "defaultVisibility": true,
   "subLayerIds": [
    21,
    22,
    23,
    24,
    25
   ],
   "minScale": 0,
   "maxScale": 0
  },
  {
   "id": 21,
   "name": "vksz.sde.fatermesi_oszt_1960_90_kst",
   "parentLayerId": 20,
   "defaultVisibility": false,
   "subLayerIds": null,
   "minScale": 0,
   "maxScale": 0
  },
  {
   "id": 22,
   "name": "vksz.sde.fatermesi_oszt_2021_50_kst_ala",
   "parentLayerId": 20,
   "defaultVisibility": false,
   "subLayerIds": null,
   "minScale": 0,
   "maxScale": 0
  },
  {
   "id": 23,
   "name": "vksz.sde.fatermesi_oszt_2021_50_kst_rcm",
   "parentLayerId": 20,
   "defaultVisibility": false,
   "subLayerIds": null,
   "minScale": 0,
   "maxScale": 0
  },
  {
   "id": 24,
   "name": "vksz.sde.fatermesi_oszt_2071_100_kst_ala",
   "parentLayerId": 20,
   "defaultVisibility": false,
   "subLayerIds": null,
   "minScale": 0,
   "maxScale": 0
  },
  {
   "id": 25,
   "name": "vksz.sde.fatermesi_oszt_2071_100_kst_rcm",
   "parentLayerId": 20,
   "defaultVisibility": false,
   "subLayerIds": null,
   "minScale": 0,
   "maxScale": 0
  },
  {
   "id": 26,
   "name": "Fatermés változás feketefenyő",
   "parentLayerId": 7,
   "defaultVisibility": true,
   "subLayerIds": [
    27,
    28,
    29,
    30,
    31
   ],
   "minScale": 0,
   "maxScale": 0
  },
  {
   "id": 27,
   "name": "vksz.sde.fatermesi_oszt_1960_90_ff",
   "parentLayerId": 26,
   "defaultVisibility": false,
   "subLayerIds": null,
   "minScale": 0,
   "maxScale": 0
  },
  {
   "id": 28,
   "name": "vksz.sde.fatermesi_oszt_2021_50_ff_ala",
   "parentLayerId": 26,
   "defaultVisibility": false,
   "subLayerIds": null,
   "minScale": 0,
   "maxScale": 0
  },
  {
   "id": 29,
   "name": "vksz.sde.fatermesi_oszt_2021_50_ff_rcm",
   "parentLayerId": 26,
   "defaultVisibility": false,
   "subLayerIds": null,
   "minScale": 0,
   "maxScale": 0
  },
  {
   "id": 30,
   "name": "vksz.sde.fatermesi_oszt_2071_100_ff_ala",
   "parentLayerId": 26,
   "defaultVisibility": false,
   "subLayerIds": null,
   "minScale": 0,
   "maxScale": 0
  },
  {
   "id": 31,
   "name": "vksz.sde.fatermesi_oszt_2071_100_ff_rcm",
   "parentLayerId": 26,
   "defaultVisibility": false,
   "subLayerIds": null,
   "minScale": 0,
   "maxScale": 0
  },
  {
   "id": 32,
   "name": "Fatermés változás erdei fenyő",
   "parentLayerId": 7,
   "defaultVisibility": true,
   "subLayerIds": [
    33,
    34,
    35,
    36,
    37
   ],
   "minScale": 0,
   "maxScale": 0
  },
  {
   "id": 33,
   "name": "vksz.sde.fatermesi_oszt_1960_90_ef",
   "parentLayerId": 32,
   "defaultVisibility": false,
   "subLayerIds": null,
   "minScale": 0,
   "maxScale": 0
  },
  {
   "id": 34,
   "name": "vksz.sde.fatermesi_oszt_2021_50_ef_ala",
   "parentLayerId": 32,
   "defaultVisibility": false,
   "subLayerIds": null,
   "minScale": 0,
   "maxScale": 0
  },
  {
   "id": 35,
   "name": "vksz.sde.fatermesi_oszt_2021_50_ef_rcm",
   "parentLayerId": 32,
   "defaultVisibility": false,
   "subLayerIds": null,
   "minScale": 0,
   "maxScale": 0
  },
  {
   "id": 36,
   "name": "vksz.sde.fatermesi_oszt_2071_100_ef_ala",
   "parentLayerId": 32,
   "defaultVisibility": false,
   "subLayerIds": null,
   "minScale": 0,
   "maxScale": 0
  },
  {
   "id": 37,
   "name": "vksz.sde.fatermesi_oszt_2071_100_ef_rcm",
   "parentLayerId": 32,
   "defaultVisibility": false,
   "subLayerIds": null,
   "minScale": 0,
   "maxScale": 0
  },
  {
   "id": 38,
   "name": "Fatermés változás csertölgy",
   "parentLayerId": 7,
   "defaultVisibility": true,
   "subLayerIds": [
    39,
    40,
    41,
    42,
    43
   ],
   "minScale": 0,
   "maxScale": 0
  },
  {
   "id": 39,
   "name": "vksz.sde.fatermesi_oszt_1960_90_cs",
   "parentLayerId": 38,
   "defaultVisibility": false,
   "subLayerIds": null,
   "minScale": 0,
   "maxScale": 0
  },
  {
   "id": 40,
   "name": "vksz.sde.fatermesi_oszt_2021_50_cs_ala",
   "parentLayerId": 38,
   "defaultVisibility": false,
   "subLayerIds": null,
   "minScale": 0,
   "maxScale": 0
  },
  {
   "id": 41,
   "name": "vksz.sde.fatermesi_oszt_2021_50_cs_rcm",
   "parentLayerId": 38,
   "defaultVisibility": false,
   "subLayerIds": null,
   "minScale": 0,
   "maxScale": 0
  },
  {
   "id": 42,
   "name": "vksz.sde.fatermesi_oszt_2071_100_cs_ala",
   "parentLayerId": 38,
   "defaultVisibility": false,
   "subLayerIds": null,
   "minScale": 0,
   "maxScale": 0
  },
  {
   "id": 43,
   "name": "vksz.sde.fatermesi_oszt_2071_100_cs_rcm",
   "parentLayerId": 38,
   "defaultVisibility": false,
   "subLayerIds": null,
   "minScale": 0,
   "maxScale": 0
  },
  {
   "id": 44,
   "name": "Fatermés változás bükk",
   "parentLayerId": 7,
   "defaultVisibility": true,
   "subLayerIds": [
    45,
    46,
    47,
    48,
    49
   ],
   "minScale": 0,
   "maxScale": 0
  },
  {
   "id": 45,
   "name": "vksz.sde.fatermesi_oszt_1960_90_b",
   "parentLayerId": 44,
   "defaultVisibility": false,
   "subLayerIds": null,
   "minScale": 0,
   "maxScale": 0
  },
  {
   "id": 46,
   "name": "vksz.sde.fatermesi_oszt_2021_50_b_ala",
   "parentLayerId": 44,
   "defaultVisibility": false,
   "subLayerIds": null,
   "minScale": 0,
   "maxScale": 0
  },
  {
   "id": 47,
   "name": "vksz.sde.fatermesi_oszt_2021_50_b_rcm",
   "parentLayerId": 44,
   "defaultVisibility": false,
   "subLayerIds": null,
   "minScale": 0,
   "maxScale": 0
  },
  {
   "id": 48,
   "name": "vksz.sde.fatermesi_oszt_2071_100_b_ala",
   "parentLayerId": 44,
   "defaultVisibility": false,
   "subLayerIds": null,
   "minScale": 0,
   "maxScale": 0
  },
  {
   "id": 49,
   "name": "vksz.sde.fatermesi_oszt_2071_100_b_rcm",
   "parentLayerId": 44,
   "defaultVisibility": false,
   "subLayerIds": null,
   "minScale": 0,
   "maxScale": 0
  },
  {
   "id": 50,
   "name": "Fatermés változás akác",
   "parentLayerId": 7,
   "defaultVisibility": true,
   "subLayerIds": [
    51,
    52,
    53,
    54,
    55
   ],
   "minScale": 0,
   "maxScale": 0
  },
  {
   "id": 51,
   "name": "vksz.sde.fatermesi_oszt_1960_90_a",
   "parentLayerId": 50,
   "defaultVisibility": false,
   "subLayerIds": null,
   "minScale": 0,
   "maxScale": 0
  },
  {
   "id": 52,
   "name": "vksz.sde.fatermesi_oszt_2021_50_a_ala",
   "parentLayerId": 50,
   "defaultVisibility": false,
   "subLayerIds": null,
   "minScale": 0,
   "maxScale": 0
  },
  {
   "id": 53,
   "name": "vksz.sde.fatermesi_oszt_2021_50_a_rcm",
   "parentLayerId": 50,
   "defaultVisibility": false,
   "subLayerIds": null,
   "minScale": 0,
   "maxScale": 0
  },
  {
   "id": 54,
   "name": "vksz.sde.fatermesi_oszt_2071_100_a_ala",
   "parentLayerId": 50,
   "defaultVisibility": false,
   "subLayerIds": null,
   "minScale": 0,
   "maxScale": 0
  },
  {
   "id": 55,
   "name": "vksz.sde.fatermesi_oszt_2071_100_a_rcm",
   "parentLayerId": 50,
   "defaultVisibility": false,
   "subLayerIds": null,
   "minScale": 0,
   "maxScale": 0
  },
  {
   "id": 56,
   "name": "vksz.sde.varhato_C_megkotes",
   "parentLayerId": -1,
   "defaultVisibility": false,
   "subLayerIds": null,
   "minScale": 0,
   "maxScale": 0
  },
  {
   "id": 57,
   "name": "Alkalmazkodóképességi indikátorok",
   "parentLayerId": -1,
   "defaultVisibility": true,
   "subLayerIds": [
    58,
    59,
    60
   ],
   "minScale": 0,
   "maxScale": 0
  },
  {
   "id": 58,
   "name": "vksz.sde.elegyessegi_mutato",
   "parentLayerId": 57,
   "defaultVisibility": false,
   "subLayerIds": null,
   "minScale": 0,
   "maxScale": 0
  },
  {
   "id": 59,
   "name": "vksz.sde.korosztaly_mutato",
   "parentLayerId": 57,
   "defaultVisibility": false,
   "subLayerIds": null,
   "minScale": 0,
   "maxScale": 0
  },
  {
   "id": 60,
   "name": "vksz.sde.termohelyi_alkalmazkodasi_potencial",
   "parentLayerId": 57,
   "defaultVisibility": false,
   "subLayerIds": null,
   "minScale": 0,
   "maxScale": 0
  },
  {
   "id": 61,
   "name": "vksz.sde.erdo_serulekenyseg",
   "parentLayerId": -1,
   "defaultVisibility": false,
   "subLayerIds": null,
   "minScale": 0,
   "maxScale": 0
  }
 ],
 "tables": [],
 "spatialReference": {
  "wkid": 102100,
  "latestWkid": 3857
 },
 "singleFusedMapCache": true,
 "tileInfo": {
  "rows": 256,
  "cols": 256,
  "dpi": 96,
  "format": "PNG",
  "compressionQuality": 0,
  "origin": {
   "x": -2.0037508342787E7,
   "y": 2.0037508342787E7
  },
  "spatialReference": {
   "wkid": 102100,
   "latestWkid": 3857
  },
  "lods": [
   {
    "level": 0,
    "resolution": 156543.03392800014,
    "scale": 5.91657527591555E8
   },
   {
    "level": 1,
    "resolution": 78271.51696399994,
    "scale": 2.95828763795777E8
   },
   {
    "level": 2,
    "resolution": 39135.75848200009,
    "scale": 1.47914381897889E8
   },
   {
    "level": 3,
    "resolution": 19567.87924099992,
    "scale": 7.3957190948944E7
   },
   {
    "level": 4,
    "resolution": 9783.93962049996,
    "scale": 3.6978595474472E7
   },
   {
    "level": 5,
    "resolution": 4891.96981024998,
    "scale": 1.8489297737236E7
   },
   {
    "level": 6,
    "resolution": 2445.98490512499,
    "scale": 9244648.868618
   },
   {
    "level": 7,
    "resolution": 1222.992452562495,
    "scale": 4622324.434309
   },
   {
    "level": 8,
    "resolution": 611.4962262813797,
    "scale": 2311162.217155
   },
   {
    "level": 9,
    "resolution": 305.74811314055756,
    "scale": 1155581.108577
   },
   {
    "level": 10,
    "resolution": 152.87405657041106,
    "scale": 577790.554289
   },
   {
    "level": 11,
    "resolution": 76.43702828507324,
    "scale": 288895.277144
   },
   {
    "level": 12,
    "resolution": 38.21851414253662,
    "scale": 144447.638572
   },
   {
    "level": 13,
    "resolution": 19.10925707126831,
    "scale": 72223.819286
   },
   {
    "level": 14,
    "resolution": 9.554628535634155,
    "scale": 36111.909643
   },
   {
    "level": 15,
    "resolution": 4.77731426794937,
    "scale": 18055.954822
   },
   {
    "level": 16,
    "resolution": 2.388657133974685,
    "scale": 9027.977411
   },
   {
    "level": 17,
    "resolution": 1.1943285668550503,
    "scale": 4513.988705
   },
   {
    "level": 18,
    "resolution": 0.5971642835598172,
    "scale": 2256.994353
   },
   {
    "level": 19,
    "resolution": 0.29858214164761665,
    "scale": 1128.497176
   }
  ]
 },
 "initialExtent": {
  "xmin": 1499405.9733780837,
  "ymin": 5742468.57159991,
  "xmax": 2886883.748333634,
  "ymax": 6598132.782928333,
  "spatialReference": {
   "wkid": 102100,
   "latestWkid": 3857
  }
 },
 "fullExtent": {
  "xmin": 1793280.9697000012,
  "ymin": 5738221.934600003,
  "xmax": 2548822.9518,
  "ymax": 6206203.154100001,
  "spatialReference": {
   "wkid": 102100,
   "latestWkid": 3857
  }
 },
 "minScale": 4622324.434309,
 "maxScale": 72223.819286,
 "units": "esriMeters",
 "supportedImageFormatTypes": "PNG32,PNG24,PNG,JPG,DIB,TIFF,EMF,PS,PDF,GIF,SVG,SVGZ,BMP",
 "documentInfo": {
  "Title": "",
  "Author": "",
  "Comments": "",
  "Subject": "",
  "Category": "",
  "AntialiasingMode": "None",
  "TextAntialiasingMode": "Force",
  "Keywords": ""
 },
 "capabilities": "Map,Query,Data",
 "supportedQueryFormats": "JSON, AMF",
 "exportTilesAllowed": false,
 "maxRecordCount": 5000,
 "maxImageHeight": 4096,
 "maxImageWidth": 4096,
 "supportedExtensions": "KmlServer, WMSServer"
}