{
 "currentVersion": 10.2,
 "serviceDescription": "KNM",
 "name": "KLIMARSZ/krsz_sde_KTT_ens_41_60_4",
 "description": "KNM",
 "extent": {
  "xmin": -10.616665787,
  "ymin": 34.562256098,
  "xmax": 38.55833814700001,
  "ymax": 71.187259028,
  "spatialReference": {
   "wkid": 4326,
   "latestWkid": 4326
  }
 },
 "initialExtent": {
  "xmin": -10.616665787,
  "ymin": 34.562256098,
  "xmax": 38.55833814700001,
  "ymax": 71.187259028,
  "spatialReference": {
   "wkid": 4326,
   "latestWkid": 4326
  }
 },
 "fullExtent": {
  "xmin": -10.616665787,
  "ymin": 34.562256098,
  "xmax": 38.55833814700001,
  "ymax": 71.187259028,
  "spatialReference": {
   "wkid": 4326,
   "latestWkid": 4326
  }
 },
 "pixelSizeX": 0.008333334000000001,
 "pixelSizeY": 0.008333334,
 "bandCount": 1,
 "pixelType": "F32",
 "minPixelSize": 0,
 "maxPixelSize": 0,
 "copyrightText": "",
 "serviceDataType": "esriImageServiceDataTypeGeneric",
 "minValues": [
  11
 ],
 "maxValues": [
  973
 ],
 "meanValues": [
  410.9948547521538
 ],
 "stdvValues": [
  390.9806554536208
 ],
 "objectIdField": "",
 "fields": [],
 "capabilities": "Image,Metadata,Mensuration",
 "defaultMosaicMethod": "Center",
 "allowedMosaicMethods": "",
 "sortField": "",
 "sortValue": null,
 "mosaicOperator": "First",
 "defaultCompressionQuality": 75,
 "defaultResamplingMethod": "Bilinear",
 "maxImageHeight": 4100,
 "maxImageWidth": 15000,
 "allowRasterFunction": true,
 "rasterFunctionInfos": [],
 "rasterTypeInfos": [
  {
   "name": "Raster Dataset",
   "description": "Supports all ArcGIS Raster Datasets",
   "help": ""
  }
 ],
 "mensurationCapabilities": "Basic",
 "hasHistograms": true,
 "hasColormap": false,
 "hasRasterAttributeTable": false,
 "minScale": 0,
 "maxScale": 0,
 "exportTilesAllowed": false,
 "editFieldsInfo": null,
 "ownershipBasedAccessControlForRasters": null,
 "allowComputeTiePoints": false,
 "useStandardizedQueries": true,
 "spatialReference": {
  "wkid": 4326,
  "latestWkid": 4326
 }
}
