View In:
ArcGIS JavaScript
ArcGIS.com Map
Google Earth
ArcMap
View Footprint In:
ArcGIS.com Map
Service Description: KNM
Name: KLIMARSZ/krsz_sde_KTT_ens_41_60_4
Description: KNM
Single Fused Map Cache: false
Extent:
XMin: -10.616665787
YMin: 34.562256098
XMax: 38.55833814700001
YMax: 71.187259028
Spatial Reference: 4326
(4326)
Initial Extent:
XMin: -10.616665787
YMin: 34.562256098
XMax: 38.55833814700001
YMax: 71.187259028
Spatial Reference: 4326
(4326)
Full Extent:
XMin: -10.616665787
YMin: 34.562256098
XMax: 38.55833814700001
YMax: 71.187259028
Spatial Reference: 4326
(4326)
Pixel Size X: 0.008333334000000001
Pixel Size Y: 0.008333334
Band Count: 1
Pixel Type: F32
RasterFunction Infos: N/A
Mensuration Capabilities: Basic
Has Histograms: true
Has Colormap: false
Min Scale: 0
Max Scale: 0
Copyright Text:
Service Data Type: esriImageServiceDataTypeGeneric
Min Values: 11
Max Values: 973
Mean Values: 410.9948547521538
Standard Deviation Values: 390.9806554536208
Object ID Field:
Fields:
None
Raster Attribute Table: false
Default Mosaic Method: Center
Allowed Mosaic Methods:
Allowed Compressions: N/A
SortField:
SortValue: null
Mosaic Operator: First
Default Compression Quality: 75
Default Resampling Method: Bilinear
Max Record Count: null
Max Image Height: 4100
Max Image Width: 15000
Max Download Image Count: null
Max Mosaic Image Count: null
Allow Raster Function: true
Raster Type Infos:
Name: Raster Dataset
Description: Supports all ArcGIS Raster Datasets
Help:
Has Raster Attribute Table: false
Edit Fields Info: null
Ownership Based AccessControl For Rasters: null
Child Resources:
Info
Histograms
Key Properties
Legend
Supported Operations:
Export Image
Identify
Measure
Compute Histograms
Get Samples
Compute Class Statistics