{
 "currentVersion": 10.2,
 "serviceDescription": "",
 "name": "ECSTKLIMA/vksz_sde_thtv_8110",
 "description": "ECSTKLIMA/vksz_sde_thtv_8110",
 "extent": {
  "xmin": 1763847.980494253,
  "ymin": 5717989.1409869725,
  "xmax": 2577847.9804942533,
  "ymax": 6219789.1409869725,
  "spatialReference": {
   "wkid": 102100,
   "latestWkid": 3857
  }
 },
 "initialExtent": {
  "xmin": 1763847.980494253,
  "ymin": 5717989.1409869725,
  "xmax": 2577847.9804942533,
  "ymax": 6219789.1409869725,
  "spatialReference": {
   "wkid": 102100,
   "latestWkid": 3857
  }
 },
 "fullExtent": {
  "xmin": 1763847.980494253,
  "ymin": 5717989.1409869725,
  "xmax": 2577847.9804942533,
  "ymax": 6219789.1409869725,
  "spatialReference": {
   "wkid": 102100,
   "latestWkid": 3857
  }
 },
 "pixelSizeX": 100.00000000000003,
 "pixelSizeY": 100,
 "bandCount": 1,
 "pixelType": "S16",
 "minPixelSize": 0,
 "maxPixelSize": 0,
 "copyrightText": "",
 "serviceDataType": "esriImageServiceDataTypeGeneric",
 "minValues": [
  1
 ],
 "maxValues": [
  2328
 ],
 "meanValues": [
  701.7523111188955
 ],
 "stdvValues": [
  492.042555961952
 ],
 "objectIdField": "",
 "fields": [],
 "capabilities": "Image,Metadata,Mensuration",
 "defaultMosaicMethod": "Center",
 "allowedMosaicMethods": "",
 "sortField": "",
 "sortValue": null,
 "mosaicOperator": "First",
 "defaultCompressionQuality": 75,
 "defaultResamplingMethod": "Bilinear",
 "maxImageHeight": 4100,
 "maxImageWidth": 15000,
 "allowRasterFunction": true,
 "rasterFunctionInfos": [],
 "rasterTypeInfos": [
  {
   "name": "Raster Dataset",
   "description": "Supports all ArcGIS Raster Datasets",
   "help": ""
  }
 ],
 "mensurationCapabilities": "Basic",
 "hasHistograms": true,
 "hasColormap": false,
 "hasRasterAttributeTable": true,
 "minScale": 0,
 "maxScale": 0,
 "exportTilesAllowed": false,
 "editFieldsInfo": null,
 "ownershipBasedAccessControlForRasters": null,
 "allowComputeTiePoints": false,
 "useStandardizedQueries": true,
 "spatialReference": {
  "wkid": 102100,
  "latestWkid": 3857
 }
}
