View In:
ArcGIS JavaScript
ArcGIS.com Map
Google Earth
ArcMap
View Footprint In:
ArcGIS.com Map
Service Description:
Name: ECSTKLIMA/vksz_sde_thtv_8110
Description: ECSTKLIMA/vksz_sde_thtv_8110
Single Fused Map Cache: false
Extent:
XMin: 1763847.980494253
YMin: 5717989.1409869725
XMax: 2577847.9804942533
YMax: 6219789.1409869725
Spatial Reference: 102100
(3857)
Initial Extent:
XMin: 1763847.980494253
YMin: 5717989.1409869725
XMax: 2577847.9804942533
YMax: 6219789.1409869725
Spatial Reference: 102100
(3857)
Full Extent:
XMin: 1763847.980494253
YMin: 5717989.1409869725
XMax: 2577847.9804942533
YMax: 6219789.1409869725
Spatial Reference: 102100
(3857)
Pixel Size X: 100.00000000000003
Pixel Size Y: 100.0
Band Count: 1
Pixel Type: S16
RasterFunction Infos: N/A
Mensuration Capabilities: Basic
Has Histograms: true
Has Colormap: false
Min Scale: 0
Max Scale: 0
Copyright Text:
Service Data Type: esriImageServiceDataTypeGeneric
Min Values: 1
Max Values: 2328
Mean Values: 701.7523111188955
Standard Deviation Values: 492.042555961952
Object ID Field:
Fields:
None
Raster Attribute Table: true
Default Mosaic Method: Center
Allowed Mosaic Methods:
Allowed Compressions: N/A
SortField:
SortValue: null
Mosaic Operator: First
Default Compression Quality: 75
Default Resampling Method: Bilinear
Max Record Count: null
Max Image Height: 4100
Max Image Width: 15000
Max Download Image Count: null
Max Mosaic Image Count: null
Allow Raster Function: true
Raster Type Infos:
Name: Raster Dataset
Description: Supports all ArcGIS Raster Datasets
Help:
Has Raster Attribute Table: true
Edit Fields Info: null
Ownership Based AccessControl For Rasters: null
Child Resources:
Info
Raster Attribute Table
Histograms
Key Properties
Legend
Supported Operations:
Export Image
Identify
Measure
Compute Histograms
Get Samples
Compute Class Statistics