{
 "currentVersion": 10.2,
 "serviceDescription": "",
 "name": "ECSTKLIMA/vksz_sde_thtv_7110_85",
 "description": "ECSTKLIMA/vksz_sde_thtv_7110_85",
 "extent": {
  "xmin": 1783253.307821654,
  "ymin": 5729029.69454764,
  "xmax": 2553353.307821654,
  "ymax": 6208929.69454764,
  "spatialReference": {
   "wkid": 102100,
   "latestWkid": 3857
  }
 },
 "initialExtent": {
  "xmin": 1783253.307821654,
  "ymin": 5729029.69454764,
  "xmax": 2553353.307821654,
  "ymax": 6208929.69454764,
  "spatialReference": {
   "wkid": 102100,
   "latestWkid": 3857
  }
 },
 "fullExtent": {
  "xmin": 1783253.307821654,
  "ymin": 5729029.69454764,
  "xmax": 2553353.307821654,
  "ymax": 6208929.69454764,
  "spatialReference": {
   "wkid": 102100,
   "latestWkid": 3857
  }
 },
 "pixelSizeX": 99.99999999999997,
 "pixelSizeY": 100,
 "bandCount": 1,
 "pixelType": "S32",
 "minPixelSize": 0,
 "maxPixelSize": 0,
 "copyrightText": "",
 "serviceDataType": "esriImageServiceDataTypeGeneric",
 "minValues": [
  1
 ],
 "maxValues": [
  1525
 ],
 "meanValues": [
  405.34357474207815
 ],
 "stdvValues": [
  276.46251298181204
 ],
 "objectIdField": "",
 "fields": [],
 "capabilities": "Image,Metadata,Mensuration",
 "defaultMosaicMethod": "Center",
 "allowedMosaicMethods": "",
 "sortField": "",
 "sortValue": null,
 "mosaicOperator": "First",
 "defaultCompressionQuality": 75,
 "defaultResamplingMethod": "Bilinear",
 "maxImageHeight": 4100,
 "maxImageWidth": 15000,
 "allowRasterFunction": true,
 "rasterFunctionInfos": [],
 "rasterTypeInfos": [
  {
   "name": "Raster Dataset",
   "description": "Supports all ArcGIS Raster Datasets",
   "help": ""
  }
 ],
 "mensurationCapabilities": "Basic",
 "hasHistograms": true,
 "hasColormap": false,
 "hasRasterAttributeTable": true,
 "minScale": 0,
 "maxScale": 0,
 "exportTilesAllowed": false,
 "editFieldsInfo": null,
 "ownershipBasedAccessControlForRasters": null,
 "allowComputeTiePoints": false,
 "useStandardizedQueries": true,
 "spatialReference": {
  "wkid": 102100,
  "latestWkid": 3857
 }
}
