View In:
ArcGIS JavaScript
ArcGIS.com Map
Google Earth
ArcMap
View Footprint In:
ArcGIS.com Map
Service Description:
Name: ECSTKLIMA/vksz_sde_thtv_1140_85
Description: ECSTKLIMA/vksz_sde_thtv_1140_85
Single Fused Map Cache: false
Extent:
XMin: 1783253.307821654
YMin: 5729029.69454764
XMax: 2553353.307821654
YMax: 6208929.69454764
Spatial Reference: 102100
(3857)
Initial Extent:
XMin: 1783253.307821654
YMin: 5729029.69454764
XMax: 2553353.307821654
YMax: 6208929.69454764
Spatial Reference: 102100
(3857)
Full Extent:
XMin: 1783253.307821654
YMin: 5729029.69454764
XMax: 2553353.307821654
YMax: 6208929.69454764
Spatial Reference: 102100
(3857)
Pixel Size X: 99.99999999999997
Pixel Size Y: 100.0
Band Count: 1
Pixel Type: S32
RasterFunction Infos: N/A
Mensuration Capabilities: Basic
Has Histograms: true
Has Colormap: false
Min Scale: 0
Max Scale: 0
Copyright Text:
Service Data Type: esriImageServiceDataTypeGeneric
Min Values: 1
Max Values: 2416
Mean Values: 871.9851710095959
Standard Deviation Values: 537.2652743160321
Object ID Field:
Fields:
None
Raster Attribute Table: true
Default Mosaic Method: Center
Allowed Mosaic Methods:
Allowed Compressions: N/A
SortField:
SortValue: null
Mosaic Operator: First
Default Compression Quality: 75
Default Resampling Method: Bilinear
Max Record Count: null
Max Image Height: 4100
Max Image Width: 15000
Max Download Image Count: null
Max Mosaic Image Count: null
Allow Raster Function: true
Raster Type Infos:
Name: Raster Dataset
Description: Supports all ArcGIS Raster Datasets
Help:
Has Raster Attribute Table: true
Edit Fields Info: null
Ownership Based AccessControl For Rasters: null
Child Resources:
Info
Raster Attribute Table
Histograms
Key Properties
Legend
Supported Operations:
Export Image
Identify
Measure
Compute Histograms
Get Samples
Compute Class Statistics